BEGIN:VCALENDAR
METHOD:REQUEST
PRODID:-//events.orgNONSGML ical.net 4.0//EN
VERSION:2.0
BEGIN:VEVENT
DTEND;VALUE=DATE:20260703
DTSTAMP:20260422T084349Z
DTSTART;VALUE=DATE:20260703
LOCATION:T-Mobile Park\, Seattle
ORGANIZER;CN=:mailto:events@events.org
SEQUENCE:0
SUMMARY:Seattle Mariners vs. Toronto Blue Jays
UID:95f1c3b3-e48c-41f3-a410-838e0ec3e9db
URL:https://events.org/e/Seattle-Mariners-vs-Toronto-Blue-Jays/UB25YKAM
BEGIN:VALARM
ACTION:DISPLAY
SUMMARY:Reminder
TRIGGER:-P1D
END:VALARM
END:VEVENT
END:VCALENDAR
