BEGIN:VCALENDAR
METHOD:REQUEST
PRODID:-//events.orgNONSGML ical.net 4.0//EN
VERSION:2.0
BEGIN:VEVENT
DTEND;VALUE=DATE:20260517
DTSTAMP:20260422T090127Z
DTSTART;VALUE=DATE:20260517
LOCATION:The Echo\, Los Angeles
ORGANIZER;CN=:mailto:events@events.org
SEQUENCE:0
SUMMARY:Grand Ole Echo
UID:bb2b5aca-0936-427e-815a-d2f677c9f305
URL:https://events.org/e/Grand-Ole-Echo/NSHDBKDF
BEGIN:VALARM
ACTION:DISPLAY
SUMMARY:Reminder
TRIGGER:-P1D
END:VALARM
END:VEVENT
END:VCALENDAR
