BEGIN:VCALENDAR
METHOD:REQUEST
PRODID:-//events.orgNONSGML ical.net 4.0//EN
VERSION:2.0
BEGIN:VEVENT
DTEND;VALUE=DATE:20260611
DTSTAMP:20260421T103812Z
DTSTART;VALUE=DATE:20260611
LOCATION:Coors Field\, Denver
ORGANIZER;CN=:mailto:events@events.org
SEQUENCE:0
SUMMARY:Colorado Rockies vs. Chicago Cubs
UID:3a05e791-70d9-4eb0-8e87-b02665104671
URL:https://events.org/e/Colorado-Rockies-vs-Chicago-Cubs/744C8Y7F
BEGIN:VALARM
ACTION:DISPLAY
SUMMARY:Reminder
TRIGGER:-P1D
END:VALARM
END:VEVENT
END:VCALENDAR
