BEGIN:VCALENDAR
METHOD:REQUEST
PRODID:-//events.orgNONSGML ical.net 4.0//EN
VERSION:2.0
BEGIN:VEVENT
DTEND;VALUE=DATE:20260703
DTSTAMP:20260422T084824Z
DTSTART;VALUE=DATE:20260703
LOCATION:The 5th Avenue Theatre\, Seattle
ORGANIZER;CN=:mailto:events@events.org
SEQUENCE:0
SUMMARY:Kurt Vile and the Violators
UID:bb5d9c7c-be46-4f4f-9c14-1969727985a5
URL:https://events.org/e/Kurt-Vile-and-the-Violators/KMMFKCAV
BEGIN:VALARM
ACTION:DISPLAY
SUMMARY:Reminder
TRIGGER:-P1D
END:VALARM
END:VEVENT
END:VCALENDAR
