BEGIN:VCALENDAR
METHOD:REQUEST
PRODID:-//events.orgNONSGML ical.net 4.0//EN
VERSION:2.0
BEGIN:VEVENT
DTEND;VALUE=DATE:20260527
DTSTAMP:20260422T084001Z
DTSTART;VALUE=DATE:20260527
LOCATION:Chase Field\, Phoenix
ORGANIZER;CN=:mailto:events@events.org
SEQUENCE:0
SUMMARY:Chase Field Stadium Tours
UID:51d81461-f07e-48e6-b185-27bb787b28ae
URL:https://events.org/e/Chase-Field-Stadium-Tours/24NP5FW9
BEGIN:VALARM
ACTION:DISPLAY
SUMMARY:Reminder
TRIGGER:-P1D
END:VALARM
END:VEVENT
END:VCALENDAR
