BEGIN:VCALENDAR
METHOD:REQUEST
PRODID:-//events.orgNONSGML ical.net 4.0//EN
VERSION:2.0
BEGIN:VEVENT
DTEND;VALUE=DATE:20260612
DTSTAMP:20260421T095231Z
DTSTART;VALUE=DATE:20260612
LOCATION:The Bronze Peacock at House of Blues Houston\, Houston
ORGANIZER;CN=:mailto:events@events.org
SEQUENCE:0
SUMMARY:The Right Side of Comedy - AGES 18+ W/ VALID ID
UID:32577f43-5ae3-48eb-b740-856ba6b3e1a9
URL:https://events.org/e/The-Right-Side-of-Comedy---AGES-18-W-VALID-ID/N5Q
 57VR6
BEGIN:VALARM
ACTION:DISPLAY
SUMMARY:Reminder
TRIGGER:-P1D
END:VALARM
END:VEVENT
END:VCALENDAR
