BEGIN:VCALENDAR
METHOD:REQUEST
PRODID:-//events.orgNONSGML ical.net 4.0//EN
VERSION:2.0
BEGIN:VEVENT
DTEND;VALUE=DATE:20260527
DTSTAMP:20260424T080429Z
DTSTART;VALUE=DATE:20260527
LOCATION:Second City-Chicago: Mainstage\, Chicago
ORGANIZER;CN=:mailto:events@events.org
SEQUENCE:0
SUMMARY:The Second City Mainstage 114th Revue (Minors must be accompanied 
 by an adult)
UID:74098c5c-7e93-48f6-8c8e-00b4186aefbb
URL:https://events.org/e/The-Second-City-Mainstage-114th-Revue-Minors/55EB
 B68E
BEGIN:VALARM
ACTION:DISPLAY
SUMMARY:Reminder
TRIGGER:-P1D
END:VALARM
END:VEVENT
END:VCALENDAR
