BEGIN:VCALENDAR
METHOD:REQUEST
PRODID:-//events.orgNONSGML ical.net 4.0//EN
VERSION:2.0
BEGIN:VEVENT
DTEND;VALUE=DATE:20260506
DTSTAMP:20260419T143545Z
DTSTART;VALUE=DATE:20260506
LOCATION:The Hotel Cafe (Second Stage)\, Los Angeles
ORGANIZER;CN=:mailto:events@events.org
SEQUENCE:0
SUMMARY:Netflix Is A Joke Presents: Maddy Kelly
UID:9bf00f90-5abf-41cc-9bb8-8719a107e78b
URL:https://events.org/e/Netflix-Is-A-Joke-Presents-Maddy-Kelly/BYO8VR62
BEGIN:VALARM
ACTION:DISPLAY
SUMMARY:Reminder
TRIGGER:-P1D
END:VALARM
END:VEVENT
END:VCALENDAR
