BEGIN:VCALENDAR
METHOD:REQUEST
PRODID:-//events.orgNONSGML ical.net 4.0//EN
VERSION:2.0
BEGIN:VEVENT
DTEND;VALUE=DATE:20260618
DTSTAMP:20260423T133149Z
DTSTART;VALUE=DATE:20260618
LOCATION:The Echo Lounge & Music Hall\, Dallas
ORGANIZER;CN=:mailto:events@events.org
SEQUENCE:0
SUMMARY:Thievery Corporation
UID:b921f71f-e019-41df-b46a-9ce13f5822cb
URL:https://events.org/e/Thievery-Corporation/JDIW83KR
BEGIN:VALARM
ACTION:DISPLAY
SUMMARY:Reminder
TRIGGER:-P1D
END:VALARM
END:VEVENT
END:VCALENDAR
