BEGIN:VCALENDAR
METHOD:REQUEST
PRODID:-//events.orgNONSGML ical.net 4.0//EN
VERSION:2.0
BEGIN:VEVENT
DTEND;VALUE=DATE:20260426
DTSTAMP:20260423T133517Z
DTSTART;VALUE=DATE:20260426
LOCATION:Three Links Deep Ellum\, Dallas
ORGANIZER;CN=:mailto:events@events.org
SEQUENCE:0
SUMMARY:Y2K Underground Market
UID:68d5c23c-c3f9-4292-b029-620ce7035151
URL:https://events.org/e/Y2K-Underground-Market/6GXA428X
BEGIN:VALARM
ACTION:DISPLAY
SUMMARY:Reminder
TRIGGER:-P1D
END:VALARM
END:VEVENT
END:VCALENDAR
