BEGIN:VCALENDAR
METHOD:REQUEST
PRODID:-//events.orgNONSGML ical.net 4.0//EN
VERSION:2.0
BEGIN:VEVENT
DTEND;VALUE=DATE:20260425
DTSTAMP:20260423T133631Z
DTSTART;VALUE=DATE:20260425
LOCATION:Peacock Theater - LA\, Los Angeles
ORGANIZER;CN=:mailto:events@events.org
SEQUENCE:0
SUMMARY:Hatsune Miku
UID:79fa6299-528b-450d-9469-39c6898c3861
URL:https://events.org/e/Hatsune-Miku/TUUUTR78
BEGIN:VALARM
ACTION:DISPLAY
SUMMARY:Reminder
TRIGGER:-P1D
END:VALARM
END:VEVENT
END:VCALENDAR
