BEGIN:VCALENDAR
METHOD:REQUEST
PRODID:-//events.orgNONSGML ical.net 4.0//EN
VERSION:2.0
BEGIN:VEVENT
DTEND;VALUE=DATE:20260509
DTSTAMP:20260422T084345Z
DTSTART;VALUE=DATE:20260509
LOCATION:ChiTown Movies\, Chicago
ORGANIZER;CN=:mailto:events@events.org
SEQUENCE:0
SUMMARY:ChiTown Drive-In Presents - Grease
UID:b95c4658-413d-4a0b-a6d2-00b492fac5bb
URL:https://events.org/e/ChiTown-Drive-In-Presents---Grease/9JGY74QE
BEGIN:VALARM
ACTION:DISPLAY
SUMMARY:Reminder
TRIGGER:-P1D
END:VALARM
END:VEVENT
END:VCALENDAR
