BEGIN:VCALENDAR
METHOD:REQUEST
PRODID:-//events.orgNONSGML ical.net 4.0//EN
VERSION:2.0
BEGIN:VEVENT
DTEND;VALUE=DATE:20260609
DTSTAMP:20260421T095251Z
DTSTART;VALUE=DATE:20260609
LOCATION:Chase Center\, San Francisco
ORGANIZER;CN=:mailto:events@events.org
SEQUENCE:0
SUMMARY:Golden State Valkyries vs. Phoenix Mercury
UID:b9bc3db3-86d5-49e2-a493-0fe3e4c419b5
URL:https://events.org/e/Golden-State-Valkyries-vs-Phoenix-Mercury/HM5UQXBP
BEGIN:VALARM
ACTION:DISPLAY
SUMMARY:Reminder
TRIGGER:-P1D
END:VALARM
END:VEVENT
END:VCALENDAR
