BEGIN:VCALENDAR
METHOD:REQUEST
PRODID:-//events.orgNONSGML ical.net 4.0//EN
VERSION:2.0
BEGIN:VEVENT
DTEND;VALUE=DATE:20261011
DTSTAMP:20260424T092607Z
DTSTART;VALUE=DATE:20261011
LOCATION:Improv Comedy Club- DC\, Washington
ORGANIZER;CN=:mailto:events@events.org
SEQUENCE:0
SUMMARY:Rafi Bastos
UID:dba59934-8dcb-476f-905e-05b4e9de1359
URL:https://events.org/e/Rafi-Bastos/W4UDF5TU
BEGIN:VALARM
ACTION:DISPLAY
SUMMARY:Reminder
TRIGGER:-P1D
END:VALARM
END:VEVENT
END:VCALENDAR
