BEGIN:VCALENDAR
METHOD:REQUEST
PRODID:-//events.orgNONSGML ical.net 4.0//EN
VERSION:2.0
BEGIN:VEVENT
DTEND;VALUE=DATE:20251115
DTSTAMP:20260421T204722Z
DTSTART;VALUE=DATE:20251115
LOCATION:Armory\, Minneapolis
ORGANIZER;CN=:mailto:events@events.org
SEQUENCE:0
SUMMARY:KATSEYE: THE BEAUTIFUL CHAOS TOUR
UID:14597b25-49be-4239-a4bb-69981dd851d1
URL:https://events.org/e/KATSEYE-THE-BEAUTIFUL-CHAOS-TOUR/QBA6LCHA
BEGIN:VALARM
ACTION:DISPLAY
SUMMARY:Reminder
TRIGGER:-P1D
END:VALARM
END:VEVENT
END:VCALENDAR
