BEGIN:VCALENDAR
METHOD:REQUEST
PRODID:-//events.orgNONSGML ical.net 4.0//EN
VERSION:2.0
BEGIN:VEVENT
DTEND;VALUE=DATE:20260620
DTSTAMP:20260421T082312Z
DTSTART;VALUE=DATE:20260620
LOCATION:Scullers Jazz Club\, Boston
ORGANIZER;CN=:mailto:events@events.org
SEQUENCE:0
SUMMARY:GREG ABATE QUARTET
UID:c124ac7a-be99-4ff2-b5ad-7624fbfea2d6
URL:https://events.org/e/GREG-ABATE-QUARTET/KYINURWU
BEGIN:VALARM
ACTION:DISPLAY
SUMMARY:Reminder
TRIGGER:-P1D
END:VALARM
END:VEVENT
END:VCALENDAR
