BEGIN:VCALENDAR
METHOD:REQUEST
PRODID:-//events.orgNONSGML ical.net 4.0//EN
VERSION:2.0
BEGIN:VEVENT
DTEND;VALUE=DATE:20260602
DTSTAMP:20260421T104142Z
DTSTART;VALUE=DATE:20260602
LOCATION:Aisle 5\, Atlanta
ORGANIZER;CN=:mailto:events@events.org
SEQUENCE:0
SUMMARY:Flawed Mangoes: The Killswitch Memories Tour
UID:8fb81825-60b2-4ae7-b2cd-38c11ecdf6cb
URL:https://events.org/e/Flawed-Mangoes-The-Killswitch-Memories-Tour/2MEXE
 IFC
BEGIN:VALARM
ACTION:DISPLAY
SUMMARY:Reminder
TRIGGER:-P1D
END:VALARM
END:VEVENT
END:VCALENDAR
