BEGIN:VCALENDAR
METHOD:REQUEST
PRODID:-//events.orgNONSGML ical.net 4.0//EN
VERSION:2.0
BEGIN:VEVENT
DTEND;VALUE=DATE:20260625
DTSTAMP:20260421T082311Z
DTSTART;VALUE=DATE:20260625
LOCATION:Margot and Bill Winspear Opera House\, Dallas
ORGANIZER;CN=:mailto:events@events.org
SEQUENCE:0
SUMMARY:Clue (Touring)
UID:0e372472-6014-4ec8-abf6-dfc31867d569
URL:https://events.org/e/Clue-Touring/I468EWJ5
BEGIN:VALARM
ACTION:DISPLAY
SUMMARY:Reminder
TRIGGER:-P1D
END:VALARM
END:VEVENT
END:VCALENDAR
