BEGIN:VCALENDAR
METHOD:REQUEST
PRODID:-//events.orgNONSGML ical.net 4.0//EN
VERSION:2.0
BEGIN:VEVENT
DTEND;VALUE=DATE:20260601
DTSTAMP:20260424T092107Z
DTSTART;VALUE=DATE:20260601
LOCATION:Almeda Mall\, Houston
ORGANIZER;CN=:mailto:events@events.org
SEQUENCE:0
SUMMARY:Flip Circus
UID:d18f43e9-b617-4cdf-91f4-07debcb2a43a
URL:https://events.org/e/Flip-Circus/GJP984SY
BEGIN:VALARM
ACTION:DISPLAY
SUMMARY:Reminder
TRIGGER:-P1D
END:VALARM
END:VEVENT
END:VCALENDAR
