BEGIN:VCALENDAR
METHOD:REQUEST
PRODID:-//events.orgNONSGML ical.net 4.0//EN
VERSION:2.0
BEGIN:VEVENT
DTEND;VALUE=DATE:20260618
DTSTAMP:20260421T094328Z
DTSTART;VALUE=DATE:20260618
LOCATION:Viejas Arena at Aztec Bowl San Diego State University\, San Diego
ORGANIZER;CN=:mailto:events@events.org
SEQUENCE:0
SUMMARY:Parker McCollum
UID:4ae82b8e-05d0-4724-af58-da70fe7eec2f
URL:https://events.org/e/Parker-McCollum/TVBSMMRT
BEGIN:VALARM
ACTION:DISPLAY
SUMMARY:Reminder
TRIGGER:-P1D
END:VALARM
END:VEVENT
END:VCALENDAR
