BEGIN:VCALENDAR
METHOD:REQUEST
PRODID:-//events.orgNONSGML ical.net 4.0//EN
VERSION:2.0
BEGIN:VEVENT
DTEND;VALUE=DATE:20260428
DTSTAMP:20260424T080847Z
DTSTART;VALUE=DATE:20260428
LOCATION:The Theater Center\, New York
ORGANIZER;CN=:mailto:events@events.org
SEQUENCE:0
SUMMARY:Friends! The Musical Parody (New York)
UID:ea275b00-528e-4661-8568-fbb632924717
URL:https://events.org/e/Friends-The-Musical-Parody-New-York/E8AOA39J
BEGIN:VALARM
ACTION:DISPLAY
SUMMARY:Reminder
TRIGGER:-P1D
END:VALARM
END:VEVENT
END:VCALENDAR
