BEGIN:VCALENDAR
METHOD:REQUEST
PRODID:-//events.orgNONSGML ical.net 4.0//EN
VERSION:2.0
BEGIN:VEVENT
DTEND;VALUE=DATE:20260620
DTSTAMP:20260421T104031Z
DTSTART;VALUE=DATE:20260620
LOCATION:Mic Drop Comedy\, San Diego
ORGANIZER;CN=:mailto:events@events.org
SEQUENCE:0
SUMMARY:Libbie Higgins
UID:4dfc114b-c2b1-461c-8580-a7fca4c4cc78
URL:https://events.org/e/Libbie-Higgins/NTIUBPGV
BEGIN:VALARM
ACTION:DISPLAY
SUMMARY:Reminder
TRIGGER:-P1D
END:VALARM
END:VEVENT
END:VCALENDAR
