BEGIN:VCALENDAR
METHOD:REQUEST
PRODID:-//events.orgNONSGML ical.net 4.0//EN
VERSION:2.0
BEGIN:VEVENT
DTEND;VALUE=DATE:20260503
DTSTAMP:20260423T133531Z
DTSTART;VALUE=DATE:20260503
LOCATION:House of Blues Houston\, Houston
ORGANIZER;CN=:mailto:events@events.org
SEQUENCE:0
SUMMARY:Natalie Nunn: "Already Rich" Tour
UID:b2fdec61-b32b-4fd2-939a-eefffd9dc979
URL:https://events.org/e/Natalie-Nunn-Already-Rich-Tour/77ESTMPO
BEGIN:VALARM
ACTION:DISPLAY
SUMMARY:Reminder
TRIGGER:-P1D
END:VALARM
END:VEVENT
END:VCALENDAR
