BEGIN:VCALENDAR
METHOD:REQUEST
PRODID:-//events.orgNONSGML ical.net 4.0//EN
VERSION:2.0
BEGIN:VEVENT
DTEND;VALUE=DATE:20260615
DTSTAMP:20260424T092445Z
DTSTART;VALUE=DATE:20260615
LOCATION:Aisle 5\, Atlanta
ORGANIZER;CN=:mailto:events@events.org
SEQUENCE:0
SUMMARY:Modern Alibi
UID:64e155c7-84bc-4492-a0c6-fdf080c5f9ee
URL:https://events.org/e/Modern-Alibi/G4H6C4AC
BEGIN:VALARM
ACTION:DISPLAY
SUMMARY:Reminder
TRIGGER:-P1D
END:VALARM
END:VEVENT
END:VCALENDAR
