BEGIN:VCALENDAR
METHOD:REQUEST
PRODID:-//events.orgNONSGML ical.net 4.0//EN
VERSION:2.0
BEGIN:VEVENT
DTEND;VALUE=DATE:20260918
DTSTAMP:20260422T091649Z
DTSTART;VALUE=DATE:20260918
LOCATION:Kimmel Cultural Campus\, Philadelphia
ORGANIZER;CN=:mailto:events@events.org
SEQUENCE:0
SUMMARY:Brad Williams
UID:7a554325-7791-4547-8335-7c45d11d7969
URL:https://events.org/e/Brad-Williams/FALA3P5X
BEGIN:VALARM
ACTION:DISPLAY
SUMMARY:Reminder
TRIGGER:-P1D
END:VALARM
END:VEVENT
END:VCALENDAR
