BEGIN:VCALENDAR
METHOD:REQUEST
PRODID:-//events.orgNONSGML ical.net 4.0//EN
VERSION:2.0
BEGIN:VEVENT
DTEND;VALUE=DATE:20260617
DTSTAMP:20260421T095115Z
DTSTART;VALUE=DATE:20260617
LOCATION:Brick By Brick\, San Diego
ORGANIZER;CN=:mailto:events@events.org
SEQUENCE:0
SUMMARY:Anvil "Pounding The Past 2026" with special guests
UID:33526edb-8bcc-4521-8876-e9664c58ecc2
URL:https://events.org/e/Anvil-Pounding-The-Past-2026-with-special-guests/
 DI9698VL
BEGIN:VALARM
ACTION:DISPLAY
SUMMARY:Reminder
TRIGGER:-P1D
END:VALARM
END:VEVENT
END:VCALENDAR
