BEGIN:VCALENDAR
METHOD:REQUEST
PRODID:-//events.orgNONSGML ical.net 4.0//EN
VERSION:2.0
BEGIN:VEVENT
DTEND;VALUE=DATE:20260926
DTSTAMP:20260422T092013Z
DTSTART;VALUE=DATE:20260926
LOCATION:Citizens Bank Park\, Philadelphia
ORGANIZER;CN=:mailto:events@events.org
SEQUENCE:0
SUMMARY:Philadelphia Phillies vs. Tampa Bay Rays
UID:aaee74ba-9ddd-40e2-b0cf-4d8c12414128
URL:https://events.org/e/Philadelphia-Phillies-vs-Tampa-Bay-Rays/V59I9KYA
BEGIN:VALARM
ACTION:DISPLAY
SUMMARY:Reminder
TRIGGER:-P1D
END:VALARM
END:VEVENT
END:VCALENDAR
