BEGIN:VCALENDAR
METHOD:REQUEST
PRODID:-//events.orgNONSGML ical.net 4.0//EN
VERSION:2.0
BEGIN:VEVENT
DTEND;VALUE=DATE:20260710
DTSTAMP:20260424T092203Z
DTSTART;VALUE=DATE:20260710
LOCATION:Taproot Theatre\, Seattle
ORGANIZER;CN=:mailto:events@events.org
SEQUENCE:0
SUMMARY:Joseph and the Amazing Technicolor Dreamcoat
UID:ec88256e-6f40-43d8-81a3-06ccdff92b37
URL:https://events.org/e/Joseph-and-the-Amazing-Technicolor-Dreamcoat/SG3S
 OHH7
BEGIN:VALARM
ACTION:DISPLAY
SUMMARY:Reminder
TRIGGER:-P1D
END:VALARM
END:VEVENT
END:VCALENDAR
