BEGIN:VCALENDAR
METHOD:REQUEST
PRODID:-//events.orgNONSGML ical.net 4.0//EN
VERSION:2.0
BEGIN:VEVENT
DTEND;VALUE=DATE:20260703
DTSTAMP:20260424T091923Z
DTSTART;VALUE=DATE:20260703
LOCATION:Big Night Live\, Boston
ORGANIZER;CN=:mailto:events@events.org
SEQUENCE:0
SUMMARY:Two Friends ( 21+ )
UID:eb701e61-f4cc-4890-8125-24be371d2b26
URL:https://events.org/e/Two-Friends-21/9FL9G9UT
BEGIN:VALARM
ACTION:DISPLAY
SUMMARY:Reminder
TRIGGER:-P1D
END:VALARM
END:VEVENT
END:VCALENDAR
