BEGIN:VCALENDAR
METHOD:REQUEST
PRODID:-//events.orgNONSGML ical.net 4.0//EN
VERSION:2.0
BEGIN:VEVENT
DTEND;VALUE=DATE:20260610
DTSTAMP:20260424T092623Z
DTSTART;VALUE=DATE:20260610
LOCATION:House of Blues Houston\, Houston
ORGANIZER;CN=:mailto:events@events.org
SEQUENCE:0
SUMMARY:Corbyn Besson and Soulidified: The Pop'n Out Tour
UID:42c70bf2-71cc-498c-9078-7243098ea65e
URL:https://events.org/e/Corbyn-Besson-and-Soulidified-The-Popn-Out-Tour/2
 FN62UHR
BEGIN:VALARM
ACTION:DISPLAY
SUMMARY:Reminder
TRIGGER:-P1D
END:VALARM
END:VEVENT
END:VCALENDAR
