BEGIN:VCALENDAR
METHOD:REQUEST
PRODID:-//events.orgNONSGML ical.net 4.0//EN
VERSION:2.0
BEGIN:VEVENT
DTEND;VALUE=DATE:20260425
DTSTAMP:20260422T090345Z
DTSTART;VALUE=DATE:20260425
LOCATION:Birdland Jazz Club\, New York
ORGANIZER;CN=:mailto:events@events.org
SEQUENCE:0
SUMMARY:Pasquale Grasso Trio
UID:8acfa0bf-3f48-4a12-a927-47ab9544e764
URL:https://events.org/e/Pasquale-Grasso-Trio/ABKW6L9H
BEGIN:VALARM
ACTION:DISPLAY
SUMMARY:Reminder
TRIGGER:-P1D
END:VALARM
END:VEVENT
END:VCALENDAR
