BEGIN:VCALENDAR
METHOD:REQUEST
PRODID:-//events.orgNONSGML ical.net 4.0//EN
VERSION:2.0
BEGIN:VEVENT
DTEND;VALUE=DATE:20260420
DTSTAMP:20260421T082027Z
DTSTART;VALUE=DATE:20260420
LOCATION:Lena Horne Theatre\, New York
ORGANIZER;CN=:mailto:events@events.org
SEQUENCE:0
SUMMARY:Six (New York\, NY)
UID:61561839-2307-448b-8999-c88986849827
URL:https://events.org/e/Six-New-York-NY/XRP5C3I6
BEGIN:VALARM
ACTION:DISPLAY
SUMMARY:Reminder
TRIGGER:-P1D
END:VALARM
END:VEVENT
END:VCALENDAR
