BEGIN:VCALENDAR
METHOD:REQUEST
PRODID:-//events.orgNONSGML ical.net 4.0//EN
VERSION:2.0
BEGIN:VEVENT
DTEND;VALUE=DATE:20260702
DTSTAMP:20260422T090626Z
DTSTART;VALUE=DATE:20260702
LOCATION:Punch Line Comedy Club - San Francisco\, San Francisco
ORGANIZER;CN=:mailto:events@events.org
SEQUENCE:0
SUMMARY:Patrick Keane
UID:9f75b401-12bc-4c43-afc9-c3058afc6425
URL:https://events.org/e/Patrick-Keane/ON4XWO6T
BEGIN:VALARM
ACTION:DISPLAY
SUMMARY:Reminder
TRIGGER:-P1D
END:VALARM
END:VEVENT
END:VCALENDAR
