BEGIN:VCALENDAR
METHOD:REQUEST
PRODID:-//events.orgNONSGML ical.net 4.0//EN
VERSION:2.0
BEGIN:VEVENT
DTEND;VALUE=DATE:20261120
DTSTAMP:20260421T082644Z
DTSTART;VALUE=DATE:20261120
LOCATION:9:30 CLUB\, Washington
ORGANIZER;CN=:mailto:events@events.org
SEQUENCE:0
SUMMARY:They Might Be Giants
UID:1e311da8-39b7-4159-b2a3-13946bee6cd6
URL:https://events.org/e/They-Might-Be-Giants/EE6AI84D
BEGIN:VALARM
ACTION:DISPLAY
SUMMARY:Reminder
TRIGGER:-P1D
END:VALARM
END:VEVENT
END:VCALENDAR
