BEGIN:VCALENDAR
METHOD:REQUEST
PRODID:-//events.orgNONSGML ical.net 4.0//EN
VERSION:2.0
BEGIN:VEVENT
DTEND;VALUE=DATE:20260913
DTSTAMP:20260423T154010Z
DTSTART;VALUE=DATE:20260913
LOCATION:Minneapolis Convention Center\, Minneapolis
ORGANIZER;CN=:mailto:events@events.org
SEQUENCE:0
SUMMARY:Collect-A-Con
UID:f4e9025f-24a2-474d-a5ad-fae570374977
URL:https://events.org/e/Collect-A-Con/A3ILD4CM
BEGIN:VALARM
ACTION:DISPLAY
SUMMARY:Reminder
TRIGGER:-P1D
END:VALARM
END:VEVENT
END:VCALENDAR
