BEGIN:VCALENDAR
METHOD:REQUEST
PRODID:-//events.orgNONSGML ical.net 4.0//EN
VERSION:2.0
BEGIN:VEVENT
DTEND;VALUE=DATE:20260507
DTSTAMP:20260421T104513Z
DTSTART;VALUE=DATE:20260507
LOCATION:Hollywood Pantages Theatre\, Los Angeles
ORGANIZER;CN=:mailto:events@events.org
SEQUENCE:0
SUMMARY:The Sound of Music (Touring)
UID:e306e98f-8c85-466e-b9b4-65b6e6408c4f
URL:https://events.org/e/The-Sound-of-Music-Touring/SIAOX2VL
BEGIN:VALARM
ACTION:DISPLAY
SUMMARY:Reminder
TRIGGER:-P1D
END:VALARM
END:VEVENT
END:VCALENDAR
