BEGIN:VCALENDAR
METHOD:REQUEST
PRODID:-//events.orgNONSGML ical.net 4.0//EN
VERSION:2.0
BEGIN:VEVENT
DTEND;VALUE=DATE:20260828
DTSTAMP:20260422T084548Z
DTSTART;VALUE=DATE:20260828
LOCATION:The Wilbur\, Boston
ORGANIZER;CN=:mailto:events@events.org
SEQUENCE:0
SUMMARY:Crashing Out LIVE
UID:4a338557-63aa-4818-8258-f3a791d1963c
URL:https://events.org/e/Crashing-Out-LIVE/A25TSI6F
BEGIN:VALARM
ACTION:DISPLAY
SUMMARY:Reminder
TRIGGER:-P1D
END:VALARM
END:VEVENT
END:VCALENDAR
