BEGIN:VCALENDAR
METHOD:REQUEST
PRODID:-//events.orgNONSGML ical.net 4.0//EN
VERSION:2.0
BEGIN:VEVENT
DTEND;VALUE=DATE:20260611
DTSTAMP:20260421T144915Z
DTSTART;VALUE=DATE:20260611
LOCATION:Fillmore Auditorium (Denver)\, Denver
ORGANIZER;CN=:mailto:events@events.org
SEQUENCE:0
SUMMARY:ALL THE FEELINGS TOUR with METRIC\, BROKEN SOCIAL SCENE\, AND STARS
UID:32457a3d-8c13-4588-a600-36c3b408017a
URL:https://events.org/e/ALL-THE-FEELINGS-TOUR-with-METRIC-BROKEN-SOCI/C6W
 8EDVN
BEGIN:VALARM
ACTION:DISPLAY
SUMMARY:Reminder
TRIGGER:-P1D
END:VALARM
END:VEVENT
END:VCALENDAR
