BEGIN:VCALENDAR
METHOD:REQUEST
PRODID:-//events.orgNONSGML ical.net 4.0//EN
VERSION:2.0
BEGIN:VEVENT
DTEND;VALUE=DATE:20260522
DTSTAMP:20260422T092514Z
DTSTART;VALUE=DATE:20260522
LOCATION:Wrigley Field\, Chicago
ORGANIZER;CN=:mailto:events@events.org
SEQUENCE:0
SUMMARY:Chicago Cubs vs. Houston Astros
UID:569f4599-17fc-4d33-bff3-9ab1812f27ac
URL:https://events.org/e/Chicago-Cubs-vs-Houston-Astros/MLKWQMJ3
BEGIN:VALARM
ACTION:DISPLAY
SUMMARY:Reminder
TRIGGER:-P1D
END:VALARM
END:VEVENT
END:VCALENDAR
