BEGIN:VCALENDAR
METHOD:REQUEST
PRODID:-//events.orgNONSGML ical.net 4.0//EN
VERSION:2.0
BEGIN:VEVENT
DTEND;VALUE=DATE:20260617
DTSTAMP:20260421T104031Z
DTSTART;VALUE=DATE:20260617
LOCATION:Trump Kennedy Center - Opera House\, Washington
ORGANIZER;CN=:mailto:events@events.org
SEQUENCE:0
SUMMARY:Moulin Rouge (Touring)
UID:091433b8-7eba-449c-b498-6868c321cce4
URL:https://events.org/e/Moulin-Rouge-Touring/IT25OSF4
BEGIN:VALARM
ACTION:DISPLAY
SUMMARY:Reminder
TRIGGER:-P1D
END:VALARM
END:VEVENT
END:VCALENDAR
