BEGIN:VCALENDAR
METHOD:REQUEST
PRODID:-//events.orgNONSGML ical.net 4.0//EN
VERSION:2.0
BEGIN:VEVENT
DTEND;VALUE=DATE:20260815
DTSTAMP:20260424T092209Z
DTSTART;VALUE=DATE:20260815
LOCATION:Thunderbird Lounge\, Phoenix
ORGANIZER;CN=:mailto:events@events.org
SEQUENCE:0
SUMMARY:Back To the 80's Party
UID:f0263d54-43b0-416c-96cd-d2da98f4d233
URL:https://events.org/e/Back-To-the-80s-Party/DHFF7ASY
BEGIN:VALARM
ACTION:DISPLAY
SUMMARY:Reminder
TRIGGER:-P1D
END:VALARM
END:VEVENT
END:VCALENDAR
