BEGIN:VCALENDAR
METHOD:REQUEST
PRODID:-//events.orgNONSGML ical.net 4.0//EN
VERSION:2.0
BEGIN:VEVENT
DTEND;VALUE=DATE:20260428
DTSTAMP:20260424T081006Z
DTSTART;VALUE=DATE:20260428
LOCATION:Marquis Theatre\, New York
ORGANIZER;CN=:mailto:events@events.org
SEQUENCE:0
SUMMARY:Stranger Things: The First Shadow
UID:c6f21e11-a877-406e-adb6-0a00ffbdbe73
URL:https://events.org/e/Stranger-Things-The-First-Shadow/LBLWJMUM
BEGIN:VALARM
ACTION:DISPLAY
SUMMARY:Reminder
TRIGGER:-P1D
END:VALARM
END:VEVENT
END:VCALENDAR
