BEGIN:VCALENDAR
METHOD:REQUEST
PRODID:-//events.orgNONSGML ical.net 4.0//EN
VERSION:2.0
BEGIN:VEVENT
DTEND;VALUE=DATE:20260507
DTSTAMP:20260423T134224Z
DTSTART;VALUE=DATE:20260507
LOCATION:Big Night Live\, Boston
ORGANIZER;CN=:mailto:events@events.org
SEQUENCE:0
SUMMARY:Pup & Friends Benefit Concert featuring Shaggy ( 18+ )
UID:5febaf72-8b93-4991-be10-9a40511e9eae
URL:https://events.org/e/Pup-Friends-Benefit-Concert-featuring-Shaggy-18/H
 29QXVWC
BEGIN:VALARM
ACTION:DISPLAY
SUMMARY:Reminder
TRIGGER:-P1D
END:VALARM
END:VEVENT
END:VCALENDAR
