BEGIN:VCALENDAR
METHOD:REQUEST
PRODID:-//events.orgNONSGML ical.net 4.0//EN
VERSION:2.0
BEGIN:VEVENT
DTEND;VALUE=DATE:20260516
DTSTAMP:20260423T133545Z
DTSTART;VALUE=DATE:20260516
LOCATION:Union Transfer\, Philadelphia
ORGANIZER;CN=:mailto:events@events.org
SEQUENCE:0
SUMMARY:They Might Be Giants (16 and Over) - Saturday
UID:71e20a4a-e2b0-4824-9e4e-fdcf0f27deb3
URL:https://events.org/e/They-Might-Be-Giants-16-and-Over---Saturday/BSQ8A
 LQY
BEGIN:VALARM
ACTION:DISPLAY
SUMMARY:Reminder
TRIGGER:-P1D
END:VALARM
END:VEVENT
END:VCALENDAR
