BEGIN:VCALENDAR
METHOD:REQUEST
PRODID:-//events.orgNONSGML ical.net 4.0//EN
VERSION:2.0
BEGIN:VEVENT
DTEND;VALUE=DATE:20260427
DTSTAMP:20260419T215940Z
DTSTART;VALUE=DATE:20260427
LOCATION:Bottom Lounge\, Chicago
ORGANIZER;CN=:mailto:events@events.org
SEQUENCE:0
SUMMARY:Unprocessed\, Allt\, Midwinter
UID:a4257167-9e2b-44f9-9d25-54a468f7bc58
URL:https://events.org/e/Unprocessed-Allt-Midwinter/W9JL4748
BEGIN:VALARM
ACTION:DISPLAY
SUMMARY:Reminder
TRIGGER:-P1D
END:VALARM
END:VEVENT
END:VCALENDAR
