BEGIN:VCALENDAR
METHOD:REQUEST
PRODID:-//events.orgNONSGML ical.net 4.0//EN
VERSION:2.0
BEGIN:VEVENT
DTEND;VALUE=DATE:20260503
DTSTAMP:20260423T093819Z
DTSTART;VALUE=DATE:20260503
LOCATION:SOMA - Sidestage\, San Diego
ORGANIZER;CN=:mailto:events@events.org
SEQUENCE:0
SUMMARY:156/Silence
UID:5f6d7b3f-624f-4bd8-94ac-61b0ce87a2ad
URL:https://events.org/e/156Silence/68MGSAEL
BEGIN:VALARM
ACTION:DISPLAY
SUMMARY:Reminder
TRIGGER:-P1D
END:VALARM
END:VEVENT
END:VCALENDAR
