BEGIN:VCALENDAR
METHOD:REQUEST
PRODID:-//events.orgNONSGML ical.net 4.0//EN
VERSION:2.0
BEGIN:VEVENT
DTEND;VALUE=DATE:20260713
DTSTAMP:20260422T085140Z
DTSTART;VALUE=DATE:20260713
LOCATION:Synovus Bank Amphitheater at Chastain Park\, Atlanta
ORGANIZER;CN=:mailto:events@events.org
SEQUENCE:0
SUMMARY:Paul Simon: A Quiet Celebration
UID:eb6a2e2a-8de7-47b5-a74d-080d3e0b2fb9
URL:https://events.org/e/Paul-Simon-A-Quiet-Celebration/V4UTX43E
BEGIN:VALARM
ACTION:DISPLAY
SUMMARY:Reminder
TRIGGER:-P1D
END:VALARM
END:VEVENT
END:VCALENDAR
