BEGIN:VCALENDAR
METHOD:REQUEST
PRODID:-//events.orgNONSGML ical.net 4.0//EN
VERSION:2.0
BEGIN:VEVENT
DTEND;VALUE=DATE:20260509
DTSTAMP:20260423T133811Z
DTSTART;VALUE=DATE:20260509
LOCATION:Mission Ballroom\, Denver
ORGANIZER;CN=:mailto:events@events.org
SEQUENCE:0
SUMMARY:Vincent Antone and Manic Focus (16 and Over)
UID:296f9e10-a6de-4ff7-9a1d-19f345a079ce
URL:https://events.org/e/Vincent-Antone-and-Manic-Focus-16-and-Over/JXLUSO
 2G
BEGIN:VALARM
ACTION:DISPLAY
SUMMARY:Reminder
TRIGGER:-P1D
END:VALARM
END:VEVENT
END:VCALENDAR
