BEGIN:VCALENDAR
METHOD:REQUEST
PRODID:-//events.orgNONSGML ical.net 4.0//EN
VERSION:2.0
BEGIN:VEVENT
DTEND;VALUE=DATE:20260528
DTSTAMP:20260424T080939Z
DTSTART;VALUE=DATE:20260528
LOCATION:House of Blues Chicago\, Chicago
ORGANIZER;CN=:mailto:events@events.org
SEQUENCE:0
SUMMARY:Here Come the Mummies
UID:7fe6c9ce-8528-4365-8bf9-b2068a2c27c2
URL:https://events.org/e/Here-Come-the-Mummies/2W5LTJWU
BEGIN:VALARM
ACTION:DISPLAY
SUMMARY:Reminder
TRIGGER:-P1D
END:VALARM
END:VEVENT
END:VCALENDAR
