BEGIN:VCALENDAR
METHOD:REQUEST
PRODID:-//events.orgNONSGML ical.net 4.0//EN
VERSION:2.0
BEGIN:VEVENT
DTEND;VALUE=DATE:20260613
DTSTAMP:20260421T095623Z
DTSTART;VALUE=DATE:20260613
LOCATION:713 Music Hall\, Houston
ORGANIZER;CN=:mailto:events@events.org
SEQUENCE:0
SUMMARY:Charlie Puth: Whatever's Clever! World Tour
UID:5457d364-756a-4855-b986-2e3bb287ce12
URL:https://events.org/e/Charlie-Puth-Whatevers-Clever-World-Tour/6D8UVE9O
BEGIN:VALARM
ACTION:DISPLAY
SUMMARY:Reminder
TRIGGER:-P1D
END:VALARM
END:VEVENT
END:VCALENDAR
